BEGIN:VCALENDAR
VERSION:2.0
PRODID:-//Saint Paul&#039;s Anglican Church - Los Altos - ECPv6.14.0//NONSGML v1.0//EN
CALSCALE:GREGORIAN
METHOD:PUBLISH
X-ORIGINAL-URL:https://www.saintpauls.net
X-WR-CALDESC:Events for Saint Paul&#039;s Anglican Church - Los Altos
REFRESH-INTERVAL;VALUE=DURATION:PT1H
X-Robots-Tag:noindex
X-PUBLISHED-TTL:PT1H
BEGIN:VTIMEZONE
TZID:America/Los_Angeles
BEGIN:DAYLIGHT
TZOFFSETFROM:-0800
TZOFFSETTO:-0700
TZNAME:PDT
DTSTART:20250309T100000
END:DAYLIGHT
BEGIN:STANDARD
TZOFFSETFROM:-0700
TZOFFSETTO:-0800
TZNAME:PST
DTSTART:20251102T090000
END:STANDARD
END:VTIMEZONE
BEGIN:VEVENT
DTSTART;TZID=America/Los_Angeles:20250723T180000
DTEND;TZID=America/Los_Angeles:20250723T200000
DTSTAMP:20260420T103350
CREATED:20250714T164718Z
LAST-MODIFIED:20250714T170358Z
UID:10000271-1753293600-1753300800@www.saintpauls.net
SUMMARY:Small Group Bible Study & Evensong – July 23 at the Macias Home (Los Altos)
DESCRIPTION:Join us for our weekly Small Group Bible Study and Evensong on Wednesday\, July 23 at 6:00 PM at the Macias Home (Saint Paul’s Church Rectory). \n🕰 Time: 6:00–8:00 PM\n📖 What to Expect: Dinner\, Scripture study\, and sung Anglican Evening Prayer\n📍 Location: 123 N El Monte Ave\, Los Altos (Rectory next to Saint Paul’s)\n🧒 Children welcome | All are invited \nWhether you’re new to Saint Paul’s or a longtime member\, this is a great opportunity for spiritual growth and fellowship. No prior experience with Anglican worship is needed!
URL:https://www.saintpauls.net/event/small-group-bible-study-evensong-july-23-at-the-macias-home-los-altos/
LOCATION:Saint Paul’s Anglican Church\, 101 North El Monte Ave\, Los Altos\, CA\, 94022\, United States
CATEGORIES:community
ATTACH;FMTTYPE=image/jpeg:https://www.saintpauls.net/wp-content/uploads/2025/07/small-group-church-los-altos.jpg
ORGANIZER;CN="Saint Paul's Anglican Church":MAILTO:steve@saintpauls.net
END:VEVENT
END:VCALENDAR